BEGIN:VCALENDAR
VERSION:2.0
PRODID:-//MilFord Elks Riders - ECPv6.15.20//NONSGML v1.0//EN
CALSCALE:GREGORIAN
METHOD:PUBLISH
X-ORIGINAL-URL:https://milfordelksriders.com
X-WR-CALDESC:Events for MilFord Elks Riders
REFRESH-INTERVAL;VALUE=DURATION:PT1H
X-Robots-Tag:noindex
X-PUBLISHED-TTL:PT1H
BEGIN:VTIMEZONE
TZID:UTC
BEGIN:STANDARD
TZOFFSETFROM:+0000
TZOFFSETTO:+0000
TZNAME:UTC
DTSTART:20240101T000000
END:STANDARD
END:VTIMEZONE
BEGIN:VEVENT
DTSTART;TZID=UTC:20251019T090000
DTEND;TZID=UTC:20251019T170000
DTSTAMP:20260423T083432
CREATED:20250923T194653Z
LAST-MODIFIED:20250923T195318Z
UID:1063-1760864400-1760893200@milfordelksriders.com
SUMMARY:Code Blue Poker Run Fundraiser
DESCRIPTION:Milford Elks Riders Host Code Blue Motorcycle Fundraiser
URL:https://milfordelksriders.com/event/code-blue-poker-run-fundraiser/
LOCATION:Milford Elks\, 124 New Haven Avenue\, Milford\, CT\, 06460
END:VEVENT
BEGIN:VEVENT
DTSTART;TZID=UTC:20250823T080000
DTEND;TZID=UTC:20250823T170000
DTSTAMP:20260423T083432
CREATED:20250712T074427Z
LAST-MODIFIED:20250712T074427Z
UID:832-1755936000-1755968400@milfordelksriders.com
SUMMARY:Beginner Bike Maintenance Workshop
DESCRIPTION:Learn basic repairs and tune-ups from our pro mechanics. Free entry for all.
URL:https://milfordelksriders.com/event/beginner-bike-maintenance-workshop-3/
LOCATION:City Plaza\, Main Street\, CT\, 06034\, United States
CATEGORIES:Loop Trail
ATTACH;FMTTYPE=image/jpeg:https://milfordelksriders.com/wp-content/uploads/2025/06/bg-calltoaction.jpg
ORGANIZER;CN="Bike Club":MAILTO:info@email.com
END:VEVENT
BEGIN:VEVENT
DTSTART;TZID=UTC:20250819T080000
DTEND;TZID=UTC:20250819T170000
DTSTAMP:20260423T083432
CREATED:20250712T073143Z
LAST-MODIFIED:20250712T073143Z
UID:814-1755590400-1755622800@milfordelksriders.com
SUMMARY:Beginner Bike Maintenance Workshop
DESCRIPTION:Learn basic repairs and tune-ups from our pro mechanics. Free entry for all.
URL:https://milfordelksriders.com/event/beginner-bike-maintenance-workshop-2/
LOCATION:City Plaza\, Main Street\, CT\, 06034\, United States
CATEGORIES:Loop Trail
ATTACH;FMTTYPE=image/jpeg:https://milfordelksriders.com/wp-content/uploads/2025/06/bg-calltoaction.jpg
ORGANIZER;CN="Bike Club":MAILTO:info@email.com
END:VEVENT
BEGIN:VEVENT
DTSTART;TZID=UTC:20250818T080000
DTEND;TZID=UTC:20250818T170000
DTSTAMP:20260423T083432
CREATED:20250712T074202Z
LAST-MODIFIED:20250712T074202Z
UID:826-1755504000-1755536400@milfordelksriders.com
SUMMARY:Family Bike Picnic Day
DESCRIPTION:Easy-paced ride followed by a group picnic. Kids’ activities\, games\, and music.
URL:https://milfordelksriders.com/event/family-bike-picnic-day-2/
LOCATION:Riverbend Park\, CT\, 06059\, United States
CATEGORIES:Fund Raising,Loop Trail
ATTACH;FMTTYPE=image/jpeg:https://milfordelksriders.com/wp-content/uploads/2025/06/bg-calltoaction.jpg
END:VEVENT
BEGIN:VEVENT
DTSTART;TZID=UTC:20250816T190000
DTEND;TZID=UTC:20250816T223000
DTSTAMP:20260423T083432
CREATED:20250712T074346Z
LAST-MODIFIED:20250712T074346Z
UID:830-1755370800-1755383400@milfordelksriders.com
SUMMARY:End of Summer Group Ride & BBQ
DESCRIPTION:Celebrate the season with an evening ride and post-ride BBQ. Bring your appetite!
URL:https://milfordelksriders.com/event/end-of-summer-group-ride-bbq-2/
LOCATION:CT
CATEGORIES:Loop Trail
ATTACH;FMTTYPE=image/jpeg:https://milfordelksriders.com/wp-content/uploads/2025/06/bg-instagram.jpg
END:VEVENT
BEGIN:VEVENT
DTSTART;TZID=UTC:20250811T080000
DTEND;TZID=UTC:20250811T170000
DTSTAMP:20260423T083432
CREATED:20250712T074036Z
LAST-MODIFIED:20250712T074036Z
UID:823-1754899200-1754931600@milfordelksriders.com
SUMMARY:Family Bike Picnic Day
DESCRIPTION:Easy-paced ride followed by a group picnic. Kids’ activities\, games\, and music.
URL:https://milfordelksriders.com/event/family-bike-picnic-day/
LOCATION:Riverbend Park\, CT\, 06059\, United States
CATEGORIES:Fund Raising,Loop Trail
ATTACH;FMTTYPE=image/jpeg:https://milfordelksriders.com/wp-content/uploads/2025/06/bg-calltoaction.jpg
END:VEVENT
BEGIN:VEVENT
DTSTART;TZID=UTC:20250807T180000
DTEND;TZID=UTC:20250807T210000
DTSTAMP:20260423T083432
CREATED:20250712T074508Z
LAST-MODIFIED:20250712T074508Z
UID:834-1754589600-1754600400@milfordelksriders.com
SUMMARY:City Ride: Explore Downtown on Wheels
DESCRIPTION:A casual group ride through the heart of the city. Great for beginners and urban cyclists.
URL:https://milfordelksriders.com/event/city-ride-explore-downtown-on-wheels-3/
LOCATION:City Plaza\, Main Street\, CT\, 06034\, United States
ATTACH;FMTTYPE=image/jpeg:https://milfordelksriders.com/wp-content/uploads/2025/06/Slide01.jpg
ORGANIZER;CN="Bike Club":MAILTO:info@email.com
END:VEVENT
BEGIN:VEVENT
DTSTART;TZID=UTC:20250805T113000
DTEND;TZID=UTC:20250805T173000
DTSTAMP:20260423T083432
CREATED:20250712T072508Z
LAST-MODIFIED:20250712T072552Z
UID:811-1754393400-1754415000@milfordelksriders.com
SUMMARY:Night Glow Ride
DESCRIPTION:Light up your bike and join this scenic nighttime group ride. Glow sticks provided!
URL:https://milfordelksriders.com/event/night-glow-ride-2/
LOCATION:Lakeside Loop Trail\, CT\, 06034\, United States
CATEGORIES:Loop Trail
ATTACH;FMTTYPE=image/jpeg:https://milfordelksriders.com/wp-content/uploads/2025/06/Slide03.jpg
ORGANIZER;CN="Bike Club":MAILTO:info@email.com
END:VEVENT
BEGIN:VEVENT
DTSTART;TZID=UTC:20250731T080000
DTEND;TZID=UTC:20250731T170000
DTSTAMP:20260423T083432
CREATED:20250712T072027Z
LAST-MODIFIED:20250712T072027Z
UID:806-1753948800-1753981200@milfordelksriders.com
SUMMARY:Night Glow Ride
DESCRIPTION:Light up your bike and join this scenic nighttime group ride. Glow sticks provided!
URL:https://milfordelksriders.com/event/night-glow-ride/
LOCATION:Lakeside Loop Trail\, CT\, 06034\, United States
CATEGORIES:Loop Trail
ATTACH;FMTTYPE=image/jpeg:https://milfordelksriders.com/wp-content/uploads/2025/06/Slide03.jpg
ORGANIZER;CN="Bike Club":MAILTO:info@email.com
END:VEVENT
BEGIN:VEVENT
DTSTART;TZID=UTC:20250729T080000
DTEND;TZID=UTC:20250729T170000
DTSTAMP:20260423T083432
CREATED:20250712T071400Z
LAST-MODIFIED:20250712T071401Z
UID:800-1753776000-1753808400@milfordelksriders.com
SUMMARY:City Ride: Explore Downtown on Wheels
DESCRIPTION:A casual group ride through the heart of the city. Great for beginners and urban cyclists.
URL:https://milfordelksriders.com/event/city-ride-explore-downtown-on-wheels/
LOCATION:City Plaza\, Main Street\, CT\, 06034\, United States
ATTACH;FMTTYPE=image/jpeg:https://milfordelksriders.com/wp-content/uploads/2025/06/Slide01.jpg
ORGANIZER;CN="Bike Club":MAILTO:info@email.com
END:VEVENT
BEGIN:VEVENT
DTSTART;TZID=UTC:20250728T190000
DTEND;TZID=UTC:20250728T223000
DTSTAMP:20260423T083432
CREATED:20250712T073850Z
LAST-MODIFIED:20250712T073850Z
UID:821-1753729200-1753741800@milfordelksriders.com
SUMMARY:End of Summer Group Ride & BBQ
DESCRIPTION:Celebrate the season with an evening ride and post-ride BBQ. Bring your appetite!
URL:https://milfordelksriders.com/event/end-of-summer-group-ride-bbq/
LOCATION:CT
CATEGORIES:Loop Trail
ATTACH;FMTTYPE=image/jpeg:https://milfordelksriders.com/wp-content/uploads/2025/06/bg-instagram.jpg
END:VEVENT
BEGIN:VEVENT
DTSTART;TZID=UTC:20250727T080000
DTEND;TZID=UTC:20250727T170000
DTSTAMP:20260423T083432
CREATED:20250712T072302Z
LAST-MODIFIED:20250714T011957Z
UID:809-1753603200-1753635600@milfordelksriders.com
SUMMARY:Beginner Bike Maintenance Workshop
DESCRIPTION:Learn the basics of bike care in this hands-on workshop designed for new riders. From fixing a flat to adjusting your brakes\, our experts will walk you through essential maintenance tips to keep your bike in top shape. No prior experience needed – just bring your bike and curiosity!
URL:https://milfordelksriders.com/event/beginner-bike-maintenance-workshop/
LOCATION:City Plaza\, Main Street\, CT\, 06034\, United States
CATEGORIES:Loop Trail
ATTACH;FMTTYPE=image/jpeg:https://milfordelksriders.com/wp-content/uploads/2025/06/bg-calltoaction.jpg
ORGANIZER;CN="Bike Club":MAILTO:info@email.com
END:VEVENT
BEGIN:VEVENT
DTSTART;TZID=UTC:20250726T080000
DTEND;TZID=UTC:20250726T170000
DTSTAMP:20260423T083432
CREATED:20250712T074254Z
LAST-MODIFIED:20250712T074254Z
UID:828-1753516800-1753549200@milfordelksriders.com
SUMMARY:Night Glow Ride
DESCRIPTION:Light up your bike and join this scenic nighttime group ride. Glow sticks provided!
URL:https://milfordelksriders.com/event/night-glow-ride-3/
LOCATION:Lakeside Loop Trail\, CT\, 06034\, United States
CATEGORIES:Loop Trail
ATTACH;FMTTYPE=image/jpeg:https://milfordelksriders.com/wp-content/uploads/2025/06/Slide03.jpg
ORGANIZER;CN="Bike Club":MAILTO:info@email.com
END:VEVENT
BEGIN:VEVENT
DTSTART;TZID=UTC:20250725T080000
DTEND;TZID=UTC:20250725T170000
DTSTAMP:20260423T083432
CREATED:20250712T074548Z
LAST-MODIFIED:20250712T074548Z
UID:836-1753430400-1753462800@milfordelksriders.com
SUMMARY:Family Bike Picnic Day
DESCRIPTION:Easy-paced ride followed by a group picnic. Kids’ activities\, games\, and music.
URL:https://milfordelksriders.com/event/family-bike-picnic-day-3/
LOCATION:Riverbend Park\, CT\, 06059\, United States
CATEGORIES:Fund Raising,Loop Trail
ATTACH;FMTTYPE=image/jpeg:https://milfordelksriders.com/wp-content/uploads/2025/06/bg-calltoaction.jpg
END:VEVENT
BEGIN:VEVENT
DTSTART;TZID=UTC:20250724T180000
DTEND;TZID=UTC:20250724T210000
DTSTAMP:20260423T083432
CREATED:20250712T072709Z
LAST-MODIFIED:20250712T072709Z
UID:813-1753380000-1753390800@milfordelksriders.com
SUMMARY:City Ride: Explore Downtown on Wheels
DESCRIPTION:A casual group ride through the heart of the city. Great for beginners and urban cyclists.
URL:https://milfordelksriders.com/event/city-ride-explore-downtown-on-wheels-2/
LOCATION:City Plaza\, Main Street\, CT\, 06034\, United States
ATTACH;FMTTYPE=image/jpeg:https://milfordelksriders.com/wp-content/uploads/2025/06/Slide01.jpg
ORGANIZER;CN="Bike Club":MAILTO:info@email.com
END:VEVENT
BEGIN:VEVENT
DTSTART;TZID=UTC:20250724T080000
DTEND;TZID=UTC:20250724T170000
DTSTAMP:20260423T083432
CREATED:20250712T071705Z
LAST-MODIFIED:20250712T071706Z
UID:803-1753344000-1753376400@milfordelksriders.com
SUMMARY:Mountain Trail Adventure Ride
DESCRIPTION:Test your skills on this challenging mountain trail ride. Bring safety gear and hydration.
URL:https://milfordelksriders.com/event/mountain-trail-adventure-ride/
LOCATION:Pine Ridge Trails\, Hillside Park\, CT\, 06050\, United States
ATTACH;FMTTYPE=image/jpeg:https://milfordelksriders.com/wp-content/uploads/2025/06/Slide02.jpg
ORGANIZER;CN="Bike Club":MAILTO:info@email.com
END:VEVENT
END:VCALENDAR