BEGIN:VCALENDAR
VERSION:2.0
PRODID:-//MilFord Elks Riders - ECPv6.15.20//NONSGML v1.0//EN
CALSCALE:GREGORIAN
METHOD:PUBLISH
X-WR-CALNAME:MilFord Elks Riders
X-ORIGINAL-URL:https://milfordelksriders.com
X-WR-CALDESC:Events for MilFord Elks Riders
REFRESH-INTERVAL;VALUE=DURATION:PT1H
X-Robots-Tag:noindex
X-PUBLISHED-TTL:PT1H
BEGIN:VTIMEZONE
TZID:UTC
BEGIN:STANDARD
TZOFFSETFROM:+0000
TZOFFSETTO:+0000
TZNAME:UTC
DTSTART:20240101T000000
END:STANDARD
END:VTIMEZONE
BEGIN:VEVENT
DTSTART;TZID=UTC:20250729T080000
DTEND;TZID=UTC:20250729T170000
DTSTAMP:20260423T094741
CREATED:20250712T071400Z
LAST-MODIFIED:20250712T071401Z
UID:800-1753776000-1753808400@milfordelksriders.com
SUMMARY:City Ride: Explore Downtown on Wheels
DESCRIPTION:A casual group ride through the heart of the city. Great for beginners and urban cyclists.
URL:https://milfordelksriders.com/event/city-ride-explore-downtown-on-wheels/
LOCATION:City Plaza\, Main Street\, CT\, 06034\, United States
ATTACH;FMTTYPE=image/jpeg:https://milfordelksriders.com/wp-content/uploads/2025/06/Slide01.jpg
ORGANIZER;CN="Bike Club":MAILTO:info@email.com
END:VEVENT
END:VCALENDAR